Workbook

Sheet Table of Contents
A1: U.S. International Trade in Goods and Services
A2: July 2025
A3: 상품 및 서비스 국제무역
A5: List of News Release Exhibits
A7: Part A: Seasonally Adjusted (by Commodity/Service) | C7: 상품 및 서비스별 계절조정계열
A9: Exhibit 1 | B9: U.S. International Trade in Goods and Services | C9: 상품 및 서비스 국제무역
A11: Exhibit 2 | B11: U.S. International Trade in Goods and Services Three-Month Moving Averages | C11: 상품 및 서비스 국제무역, 3개월 이동평균
A13: Exhibit 3 | B13: U.S. Exports of Services by Major Category | C13: 주요 분류별 서비스 수출
A15: Exhibit 4 | B15: U.S. Imports of Services by Major Category | C15: 주요 분류별 서비스 수입
A17: Exhibit 5 | B17: U.S. Trade in Goods | C17: 상품 무역
A19: Exhibit 6 | B19: U.S. Trade in Goods by Principal End-Use Category | C19: 주된 최종용도별 상품 무역
A21: Exhibit 7 | B21: U.S. Exports of Goods by End-Use Category and Commodity | C21: 최종용도별 및 상품별 상품 수출
A23: Exhibit 8 | B23: U.S. Imports of Goods by End-Use Category and Commodity | C23: 최종용도별 및 상품별 상품 수입
A25: Exhibit 9 | B25: U.S. Trade in Petroleum and Non-Petroleum Products by End-Use | C25: 최종용도별 석유와 비석유 무역
A27: Exhibit 10 | B27: Real U.S. Trade in Goods by Principal End-Use Category Chained (2017) Dollars | C27: 주된 최종용도별 실질 상품 무역, 연쇄가격 2017년
A29: Exhibit 11 | B29: Real U.S. Trade in Petroleum and Non-Petroleum Products by End-Use Chained (2017) Dollars | C29: 최종용도별 실질 석유 및 비석유 무역, 연쇄가격 2017년
A31: Part B: Not Seasonally Adjusted | C31: 원계열
A33: Exhibit 12 | B33: U.S. Trade in Goods | C33: 상품 무역
A35: Exhibit 13 | B35: U.S. Trade in Goods by Principal End-Use Category | C35: 주된 최종용도별 상품 무역
A37: Exhibit 14 | B37: U.S. Trade in Goods by Selected Countries and Areas: 2025 | C37: 특정 국가·지역별 상품 무역, 2025.
A39: Exhibit 14a | B39: U.S. Trade in Goods by Selected Countries and Areas: 2024 | C39: 특정 국가·지역별 상품 무역, 2024.
A41: Exhibit 15 | B41: U.S. Trade in Goods by Principal Commodities | C41: 주된 상품별 상품 무역
A43: Exhibit 16 | B43: U.S. Trade in Advanced Technology Products | C43: 신기술 제품 무역
A45: Exhibit 16a | B45: U.S. Trade in Advanced Technology Products by Technology Group and Selected Countries and Areas | C45: 기술분류별 및 특정 국가·지역별 신기술 제품 무역
A47: Exhibit 17 | B47: U.S. Trade in Energy-Related Petroleum Products, Including Crude Oil | C47: 석유 관련 에너지 제품 무역; 원유 포함
A49: Exhibit 17a | B49: U.S. Imports of Crude Oil by Selected Countries and Areas | C49: 특정 국가·지역별 원유 수입
A51: Exhibit 18 | B51: U.S. Trade in Motor Vehicles and Parts by Selected Countries | C51: 특정 국가별 자동차와 관련 부품 무역
A53: Part C: Seasonally Adjusted (by Geography) | C53: 지리별 계절조정계열
A55: Exhibit 19 | B55: U.S. Trade in Goods by Selected Countries and Areas - Census Basis | C55: 특정 국가·지역별 상품 무역 (전수조사 기준)
A57: Exhibit 20 | B57: U.S. Trade in Goods and Services by Selected Countries and Areas - BOP Basis | C57: 특정 국가·지역별 상품 및 서비스 무역 (국제수지 기준)
A59: Exhibit 20a | B59: U.S. Trade in Goods by Selected Countries and Areas - BOP Basis | C59: 특정 국가·지역별 상품 무역 (국제수지 기준)
A61: Exhibit 20b | B61: U.S. Trade in Services by Selected Countries and Areas | C61: 특정 국가·지역별 서비스 무역
A63: FT-900 Supplement | C63: 보충
A65: Exhibit 1 | B65: Exports, Imports, and Balance of Goods by Selected NAICS-Based Product Code, | C65: 특정 NAICS 코드별 상품 수출·수입·수지, 원계열, 2025.06.
B66: Not Seasonally Adjusted: July 2025
A68: Exhibit 2 | B68: Origin of Movement of U.S. Exports of Goods by State by NAICS-Based Product Code Groupings, | C68: NAICS 코드 분류별 및 주별 상품 수출 출항지, 원계열, 2025.
B69: Not Seasonally Adjusted: 2025
A71: Exhibit 2a | B71: U.S. General Imports of Goods by State, State of Destination, by NAICS-Based Product Code Groupings, | C71: NAICS 코드 분류별, 주별 및 목적지별 상품 수입, 원계열, 2025.
B72: Not Seasonally Adjusted: 2025
A74: Exhibit 3 | B74: Exports, Imports, and Trade Balance of Goods | C74: 상품 수출·수입·수지
...

Sheet 1
A2: Part A: Seasonally Adjusted (by Commodity/Service)
A3: =VLOOKUP(A2,'Table of Contents'!A:C,3,0) -> 상품 및 서비스별 계절조정계열
A4: Exhibit 1. U.S. International Trade in Goods and Services
A5: =VLOOKUP(MID(A4,SEARCH(".",A4)+2,LEN(A4)),'Table of Contents'!B:C,2,0) -> 상품 및 서비스 국제무역
A6: In millions of dollars. Details may not equal totals due to seasonal adjustment and rounding. (R) - Revised.
A7: 단위: 백만 달러. 계절조정과 반올림 때문에 총계와 세부사항이 같지 않을 수 있음. (R) - 수정치.
A8: Period | B8: Balance | E8: Exports | H8: Imports
B9: Total | C9: Goods (1) | D9: Services | E9: Total | F9: Goods (1) | G9: Services | H9: Total | I9: Goods (1) | J9: Services
A10: 기간 | B10: 수지 | E10: 수출 | H10: 수입
B11: 상품 및 서비스 | C11: 상품 | D11: 서비스 | E11: 상품 및 서비스 | F11: 상품 | G11: 서비스 | H11: 상품 및 서비스 | I11: 상품 | J11: 서비스
A12: 2023
A13: Jan. - Dec. | B13: -774205 | C13: -1057495 | D13: 283290 | E13: 3092536 | F13: 2047457 | G13: 1045079 | H13: 3866741 | I13: 3104952 | J13: 761789
A14: Jan. - July | B14: -462434 | C14: -625670 | D14: 163236 | E14: 1787484 | F14: 1185535 | G14: 601949 | H14: 2249918 | I14: 1811206 | J14: 438713
A15: January | B15: -68800 | C15: -91071 | D15: 22271 | E15: 259974 | F15: 175518 | G15: 84456 | H15: 328774 | I15: 266589 | J15: 62185
A16: February | B16: -69202 | C16: -92171 | D16: 22969 | E16: 254337 | F16: 169282 | G16: 85055 | H16: 323539 | I16: 261453 | J16: 62086
A17: March | B17: -58587 | C17: -81937 | D17: 23351 | E17: 259541 | F17: 174112 | G17: 85429 | H17: 318127 | I17: 256049 | J17: 62079
A18: April | B18: -71110 | C18: -93950 | D18: 22840 | E18: 253608 | F18: 167547 | G18: 86061 | H18: 324718 | I18: 261497 | J18: 63222
A19: May | B19: -65814 | C19: -89397 | D19: 23584 | E19: 252569 | F19: 165994 | G19: 86575 | H19: 318383 | I19: 255391 | J19: 62992
A20: June | B20: -65163 | C20: -88851 | D20: 23688 | E20: 251879 | F20: 164797 | G20: 87082 | H20: 317042 | I20: 253648 | J20: 63394
A21: July | B21: -63759 | C21: -88294 | D21: 24535 | E21: 255576 | F21: 168286 | G21: 87290 | H21: 319335 | I21: 256580 | J21: 62755
A22: August | B22: -59165 | C22: -84221 | D22: 25055 | E22: 259963 | F22: 172138 | G22: 87825 | H22: 319128 | I22: 256358 | J22: 62770
A23: September | B23: -59565 | C23: -83759 | D23: 24194 | E23: 263533 | F23: 175342 | G23: 88191 | H23: 323098 | I23: 259101 | J23: 63997
A24: October | B24: -64100 | C24: -87230 | D24: 23130 | E24: 262463 | F24: 174325 | G24: 88138 | H24: 326563 | I24: 261555 | J24: 65008
... A26: December | B26: -63888 | C26: -88171 | D26: 24284 | E26: 261838 | F26: 171647 | G26: 90191 | H26: 325726 | I26: 259819 | J26: 65907
A27: 2024
A28: Jan. - Dec. | B28: -903532 | C28: -1215403 | D28: 311870 | E28: 3232524 | F28: 2079777 | G28: 1152747 | H28: 4136057 | I28: 3295180 | J28: 840877
A29: Jan. - July | B29: -499871 | C29: -681652 | D29: 181780 | E29: 1867596 | F29: 1208413 | G29: 659184 | H29: 2367468 | I29: 1890065 | J29: 477403
A30: January | B30: -67077 | C30: -92640 | D30: 25562 | E30: 261796 | F30: 170216 | G30: 91579 | H30: 328873 | I30: 262856 | J30: 66017
A31: February | B31: -66431 | C31: -92390 | D31: 25959 | E31: 269323 | F31: 175344 | G31: 93979 | H31: 335754 | I31: 267734 | J31: 68021
A32: March | B32: -66266 | C32: -93122 | D32: 26857 | E32: 265638 | F32: 171506 | G32: 94131 | H32: 331904 | I32: 264629 | J32: 67275
A33: April | B33: -73110 | C33: -98957 | D33: 25847 | E33: 266393 | F33: 173037 | G33: 93356 | H33: 339503 | I33: 271994 | J33: 67509
A34: May | B34: -74456 | C34: -100630 | D34: 26174 | E34: 264976 | F34: 170321 | G34: 94655 | H34: 339432 | I34: 270951 | J34: 68481
A35: June | B35: -73892 | C35: -99563 | D35: 25671 | E35: 268356 | F35: 173318 | G35: 95039 | H35: 342248 | I35: 272881 | J35: 69367
A36: July | B36: -78639 | C36: -104350 | D36: 25711 | E36: 271115 | F36: 174671 | G36: 96444 | H36: 349754 | I36: 279021 | J36: 70733
A37: August | B37: -71214 | C37: -97117 | D37: 25904 | E37: 275719 | F37: 177954 | G37: 97765 | H37: 346933 | I37: 275071 | J37: 71862
A38: September | B38: -81498 | C38: -107722 | D38: 26224 | E38: 273687 | F38: 175484 | G38: 98203 | H38: 355185 | I38: 283206 | J38: 71979
A39: October | B39: -74250 | C39: -100088 | D39: 25839 | E39: 269501 | F39: 170941 | G39: 98560 | H39: 343751 | I39: 271029 | J39: 72722
... A41: December | B41: -96948 | C41: -122822 | D41: 25874 | E41: 270192 | F41: 170476 | G41: 99715 | H41: 367140 | I41: 293299 | J41: 73841
A42: 2025
A43: Jan. - July | B43: -654202 | C43: -839640 | D43: 185438 | E43: 1970736 | F43: 1268557 | G43: 702180 | H43: 2624939 | I43: 2108197 | J43: 516742
...

Sheet 2
A2: Part A: Seasonally Adjusted (by Commodity/Service)
A3: =VLOOKUP(A2,'Table of Contents'!A:C,3,0) -> 상품 및 서비스별 계절조정계열
A4: Exhibit 2. U.S. International Trade in Goods and Services
A5: Three-Month Moving Averages
A6: =VLOOKUP(MID(CONCATENATE(A4," ",A5),SEARCH(".",CONCATENATE(A4," ",A5))+2,LEN(CONCATENATE(A4," ",A5))),'Table of Contents'!B:C,2,0) -> 상품 및 서비스 국제무역, 3개월 이동평균
A7: In millions of dollars. Details may not equal totals due to seasonal adjustment and rounding. (R) - Revised.
A8: 단위: 백만 달러. 계절조정과 반올림 때문에 총계와 세부사항이 같지 않을 수 있음. (R) - 수정치.
A9: Month of Moving Average | B9: Balance | E9: Exports | H9: Imports
B10: Total | C10: Goods (1) | D10: Services | E10: Total | F10: Goods (1) | G10: Services | H10: Total | I10: Goods (1) | J10: Services
A11: 이동평균의 달 | B11: 수지 | E11: 수출 | H11: 수입
B12: 상품 및 서비스 | C12: 상품 | D12: 서비스 | E12: 상품 및 서비스 | F12: 상품 | G12: 서비스 | H12: 상품 및 서비스 | I12: 상품 | J12: 서비스
A13: 2023
A14: January | B14: -67373 | C14: -89585 | D14: 22212 | E14: 256569 | F14: 172391 | G14: 84178 | H14: 323942 | I14: 261976 | J14: 61965
A15: February | B15: -69507 | C15: -92055 | D15: 22548 | E15: 255940 | F15: 171343 | G15: 84596 | H15: 325447 | I15: 263399 | J15: 62048
A16: March | B16: -65529 | C16: -88393 | D16: 22863 | E16: 257951 | F16: 172971 | G16: 84980 | H16: 323480 | I16: 261363 | J16: 62117
A17: April | B17: -66300 | C17: -89353 | D17: 23053 | E17: 255829 | F17: 170314 | G17: 85515 | H17: 322128 | I17: 259666 | J17: 62462
A18: May | B18: -65170 | C18: -88428 | D18: 23258 | E18: 255239 | F18: 169217 | G18: 86022 | H18: 320410 | I18: 257645 | J18: 62764
A19: June | B19: -67362 | C19: -90733 | D19: 23370 | E19: 252685 | F19: 166112 | G19: 86573 | H19: 320048 | I19: 256845 | J19: 63203
A20: July | B20: -64912 | C20: -88847 | D20: 23935 | E20: 253341 | F20: 166359 | G20: 86983 | H20: 318253 | I20: 255206 | J20: 63047
A21: August | B21: -62696 | C21: -87122 | D21: 24426 | E21: 255806 | F21: 168407 | G21: 87399 | H21: 318502 | I21: 255529 | J21: 62973
A22: September | B22: -60830 | C22: -85424 | D22: 24595 | E22: 259691 | F22: 171922 | G22: 87769 | H22: 320520 | I22: 257346 | J22: 63174
A23: October | B23: -60943 | C23: -85070 | D23: 24126 | E23: 261986 | F23: 173935 | G23: 88051 | H23: 322930 | I23: 259005 | J23: 63925
A24: November | B24: -62906 | C24: -86478 | D24: 23572 | E24: 261084 | F24: 172712 | G24: 88371 | H24: 323990 | I24: 259190 | J24: 64800
A25: December | B25: -64347 | C25: -87949 | D25: 23602 | E25: 260519 | F25: 171480 | G25: 89038 | H25: 324865 | I25: 259429 | J25: 65436
A26: 2024
A27: January | B27: -65339 | C27: -89752 | D27: 24412 | E27: 260296 | F27: 170111 | G27: 90185 | H27: 325635 | I27: 259863 | J27: 65773
A28: February | B28: -65799 | C28: -91067 | D28: 25268 | E28: 264319 | F28: 172402 | G28: 91916 | H28: 330118 | I28: 263469 | J28: 66648
A29: March | B29: -66591 | C29: -92717 | D29: 26126 | E29: 265585 | F29: 172355 | G29: 93230 | H29: 332177 | I29: 265073 | J29: 67104
A30: April | B30: -68602 | C30: -94823 | D30: 26221 | E30: 267118 | F30: 173296 | G30: 93822 | H30: 335720 | I30: 268119 | J30: 67602
A31: May | B31: -71277 | C31: -97570 | D31: 26293 | E31: 265669 | F31: 171621 | G31: 94048 | H31: 336946 | I31: 269191 | J31: 67755
A32: June | B32: -73819 | C32: -99717 | D32: 25897 | E32: 266575 | F32: 172225 | G32: 94350 | H32: 340394 | I32: 271942 | J32: 68453
A33: July | B33: -75662 | C33: -101514 | D33: 25852 | E33: 268149 | F33: 172770 | G33: 95379 | H33: 343811 | I33: 274284 | J33: 69527
A34: August | B34: -74582 | C34: -100343 | D34: 25762 | E34: 271730 | F34: 175314 | G34: 96416 | H34: 346312 | I34: 275658 | J34: 70654
A35: September | B35: -77117 | C35: -103063 | D35: 25946 | E35: 273507 | F35: 176036 | G35: 97471 | H35: 350624 | I35: 279100 | J35: 71524
A36: October | B36: -75654 | C36: -101642 | D36: 25989 | E36: 272969 | F36: 174793 | G36: 98176 | H36: 348623 | I36: 276436 | J36: 72187
A37: November | B37: -78500 | C37: -104604 | D37: 26104 | E37: 273006 | F37: 174311 | G37: 98694 | H37: 351505 | I37: 278915 | J37: 72590
A38: December | B38: -83650 | C38: -109637 | D38: 25987 | E38: 271840 | F38: 172642 | G38: 99198 | H38: 355490 | I38: 282279 | J38: 73211
A39: 2025
A40: January (R) | B40: -101834 | C40: -128300 | D40: 26467 | E40: 273322 | F40: 173573 | G40: 99748 | H40: 375155 | I40: 301874 | J40: 73282
A41: February (R) | B41: -115342 | C41: -142030 | D41: 26687 | E41: 275015 | F41: 175060 | G41: 99955 | H41: 390357 | I41: 317089 | J41: 73268
...

Sheet 3
A2: Part A: Seasonally Adjusted (by Commodity/Service)
A3: =VLOOKUP(A2,'Table of Contents'!A:C,3,0) -> 상품 및 서비스별 계절조정계열
A4: Exhibit 3. U.S. Exports of Services by Major Category
A5: =VLOOKUP(MID(A4,SEARCH(".",A4)+2,LEN(A4)),'Table of Contents'!B:C,2,0) -> 주요 분류별 서비스 수출
A6: In millions of dollars. Details may not equal totals due to seasonal adjustment and rounding. (R) - Revised.
A7: 단위: 백만 달러. 계절조정과 반올림 때문에 총계와 세부사항이 같지 않을 수 있음. (R) - 수정치.
A8: Period | B8: Total Services | C8: Maintenance and Repair Services n.i.e. | D8: Transport | E8: Travel (1) | F8: Construction | G8: Insurance Services | H8: Financial Services | I8: Charges for the Use of Intellectual Property n.i.e. | J8: Telecommuni-cations, Computer, and Information Services | K8: Other Business Services | L8: Personal, Cultural, and Recreational Services | M8: Government Goods and Services n.i.e.
A9: 기간 | B9: 전서비스 | C9: 달리 분류되지 않은 유지 및 수리 서비스 | D9: 운송 서비스 | E9: 여행 서비스 | F9: 건설 서비스 | G9: 보험 서비스 | H9: 금융 서비스 | I9: 달리 분류되지 않은 지적재산권 사용에 대한 비용 | J9: 통신, 컴퓨터 및 정보 서비스 | K9: 기타 사업 서비스 | L9: 개인, 문화 및 여가 서비스 | M9: 달리 분류되지 않은 정부 상품 및 서비스
A10: 2023
A11: Jan. - Dec. | B11: 1045079 | C11: 27823 | D11: 97115 | E11: 189891 | F11: 2280 | G11: 24594 | H11: 175288 | I11: 148204 | J11: 78484 | K11: 243402 | L11: 25104 | M11: 32894
A12: Jan. - July | B12: 601949 | C12: 15399 | D12: 56161 | E12: 106381 | F12: 1304 | G12: 14193 | H12: 101180 | I12: 86278 | J12: 45310 | K12: 140380 | L12: 15259 | M12: 20103
A13: January | B13: 84456 | C13: 2010 | D13: 7972 | E13: 14364 | F13: 175 | G13: 2006 | H13: 14220 | I13: 12551 | J13: 6260 | K13: 20010 | L13: 2132 | M13: 2755
A14: February | B14: 85055 | C14: 2031 | D14: 7966 | E14: 14670 | F14: 172 | G14: 2021 | H14: 14429 | I14: 12634 | J14: 6288 | K14: 19834 | L14: 2239 | M14: 2771
A15: March | B15: 85429 | C15: 2128 | D15: 8031 | E15: 14629 | F15: 171 | G15: 2034 | H15: 14492 | I15: 12553 | J15: 6390 | K15: 19865 | L15: 2274 | M15: 2861
A16: April | B16: 86061 | C16: 2174 | D16: 8002 | E16: 15407 | F16: 172 | G16: 2048 | H16: 14215 | I16: 12306 | J16: 6567 | K16: 20102 | L16: 2237 | M16: 2831
A17: May | B17: 86575 | C17: 2318 | D17: 8066 | E17: 15532 | F17: 182 | G17: 2047 | H17: 14326 | I17: 12139 | J17: 6648 | K17: 20223 | L17: 2189 | M17: 2905
A18: June | B18: 87082 | C18: 2341 | D18: 8016 | E18: 15780 | F18: 202 | G18: 2033 | H18: 14568 | I18: 12052 | J18: 6634 | K18: 20228 | L18: 2129 | M18: 3100
A19: July | B19: 87290 | C19: 2397 | D19: 8108 | E19: 15998 | F19: 230 | G19: 2004 | H19: 14929 | I19: 12044 | J19: 6524 | K19: 20117 | L19: 2059 | M19: 2880
A20: August | B20: 87825 | C20: 2456 | D20: 8041 | E20: 16378 | F20: 238 | G20: 2003 | H20: 15175 | I20: 12083 | J20: 6475 | K20: 20152 | L20: 2013 | M20: 2812
A21: September | B21: 88191 | C21: 2520 | D21: 8141 | E21: 16614 | F21: 225 | G21: 2028 | H21: 14968 | I21: 12168 | J21: 6487 | K21: 20335 | L21: 1991 | M21: 2715
A22: October | B22: 88138 | C22: 2439 | D22: 8131 | E22: 16683 | F22: 191 | G22: 2080 | H22: 14555 | I22: 12298 | J22: 6560 | K22: 20665 | L22: 1993 | M22: 2546
... A24: December | B24: 90191 | C24: 2558 | D24: 8394 | E24: 17043 | F24: 155 | G24: 2165 | H24: 14916 | I24: 12852 | J24: 6941 | K24: 20987 | L24: 1890 | M24: 2288
A25: 2024
A26: Jan. - Dec. | B26: 1152747 | C26: 35519 | D26: 102238 | E26: 213779 | F26: 2491 | G26: 28165 | H26: 194509 | I26: 169520 | J26: 90783 | K26: 263873 | L26: 21094 | M26: 30774
A27: Jan. - July | B27: 659184 | C27: 20188 | D27: 59180 | E27: 122659 | F27: 1367 | G27: 15813 | H27: 112502 | I27: 96419 | J27: 51930 | K27: 152223 | L27: 12706 | M27: 14196
A28: January | B28: 91579 | C28: 2752 | D28: 8363 | E28: 16976 | F28: 154 | G28: 2198 | H28: 15685 | I28: 13275 | J28: 7249 | K28: 20979 | L28: 1787 | M28: 2162
A29: February | B29: 93979 | C29: 2920 | D29: 8822 | E29: 17740 | F29: 160 | G29: 2221 | H29: 16214 | I29: 13586 | J29: 7426 | K29: 21132 | L29: 1750 | M29: 2010
A30: March | B30: 94131 | C30: 2887 | D30: 8540 | E30: 17653 | F30: 172 | G30: 2233 | H30: 16390 | I30: 13785 | J30: 7470 | K30: 21444 | L30: 1780 | M30: 1777
A31: April | B31: 93356 | C31: 2796 | D31: 8337 | E31: 17061 | F31: 191 | G31: 2234 | H31: 16070 | I31: 13871 | J31: 7383 | K31: 21918 | L31: 1877 | M31: 1618
A32: May | B32: 94655 | C32: 2856 | D32: 8389 | E32: 17821 | F32: 211 | G32: 2257 | H32: 16014 | I32: 13934 | J32: 7373 | K32: 22206 | L32: 1908 | M32: 1685
A33: June | B33: 95039 | C33: 2925 | D33: 8328 | E33: 17714 | F33: 230 | G33: 2302 | H33: 15977 | I33: 13975 | J33: 7441 | K33: 22311 | L33: 1871 | M33: 1964
A34: July | B34: 96444 | C34: 3051 | D34: 8402 | E34: 17695 | F34: 250 | G34: 2368 | H34: 16152 | I34: 13993 | J34: 7587 | K34: 22232 | L34: 1734 | M34: 2980
A35: August | B35: 97765 | C35: 3213 | D35: 8345 | E35: 18042 | F35: 255 | G35: 2420 | H35: 16263 | I35: 14118 | J35: 7693 | K35: 22211 | L35: 1708 | M35: 3497
A36: September | B36: 98203 | C36: 3040 | D36: 8465 | E36: 18044 | F36: 245 | G36: 2457 | H36: 16320 | I36: 14350 | J36: 7759 | K36: 22248 | L36: 1688 | M36: 3587
A37: October | B37: 98560 | C37: 3086 | D37: 8533 | E37: 18080 | F37: 221 | G37: 2479 | H37: 16354 | I37: 14689 | J37: 7786 | K37: 22344 | L37: 1673 | M37: 3315
... A39: December | B39: 99715 | C39: 2991 | D39: 8888 | E39: 18583 | F39: 197 | G39: 2502 | H39: 16573 | I39: 15029 | J39: 7812 | K39: 22439 | L39: 1658 | M39: 3045
A40: 2025
A41: Jan. - July | B41: 702180 | C41: 25413 | D41: 61747 | E41: 124884 | F41: 1427 | G41: 17323 | H41: 119130 | I41: 110142 | J41: 55747 | K41: 157907 | L41: 12945 | M41: 15515
A42: January (R) | B42: 100210 | C42: 3463 | D42: 8868 | E42: 18428 | F42: 195 | G42: 2420 | H42: 16537 | I42: 15269 | J42: 7899 | K42: 22612 | L42: 1722 | M42: 2797
A43: February (R) | B43: 99940 | C43: 3675 | D43: 8541 | E43: 18106 | F43: 196 | G43: 2388 | H43: 16577 | I43: 15460 | J43: 7948 | K43: 22681 | L43: 1779 | M43: 2590
...

Sheet 4
A2: Part A: Seasonally Adjusted (by Commodity/Service)
A3: =VLOOKUP(A2,'Table of Contents'!A:C,3,0) -> 상품 및 서비스별 계절조정계열
A4: Exhibit 4. U.S. Imports of Services by Major Category
A5: =VLOOKUP(MID(A4,SEARCH(".",A4)+2,LEN(A4)),'Table of Contents'!B:C,2,0) -> 주요 분류별 서비스 수입
A6: In millions of dollars. Details may not equal totals due to seasonal adjustment and rounding. (R) - Revised.
A7: 단위: 백만 달러. 계절조정과 반올림 때문에 총계와 세부사항이 같지 않을 수 있음. (R) - 수정치.
A8: Period | B8: Total Services | C8: Maintenance and Repair Services n.i.e. | D8: Transport | E8: Travel (1) | F8: Construction | G8: Insurance Services | H8: Financial Services | I8: Charges for the Use of Intellectual Property n.i.e. | J8: Telecommuni-cations, Computer, and Information Services | K8: Other Business Services | L8: Personal, Cultural, and Recreational Services | M8: Government Goods and Services n.i.e.
A9: =HLOOKUP(A8,'3'!8:9,2,0) -> 기간 | B9: =HLOOKUP(B8,'3'!8:9,2,0) -> 전서비스 | C9: =HLOOKUP(C8,'3'!8:9,2,0) -> 달리 분류되지 않은 유지 및 수리 서비스 | D9: =HLOOKUP(D8,'3'!8:9,2,0) -> 운송 서비스 | E9: =HLOOKUP(E8,'3'!8:9,2,0) -> 여행 서비스 | F9: =HLOOKUP(F8,'3'!8:9,2,0) -> 건설 서비스 | G9: =HLOOKUP(G8,'3'!8:9,2,0) -> 보험 서비스 | H9: =HLOOKUP(H8,'3'!8:9,2,0) -> 금융 서비스 | ... M9: =HLOOKUP(M8,'3'!8:9,2,0) -> 달리 분류되지 않은 정부 상품 및 서비스
A10: 2023
A11: Jan. - Dec. | B11: 761789 | C11: 6362 | D11: 144130 | E11: 157580 | F11: 2206 | G11: 73500 | H11: 62941 | I11: 52601 | J11: 66149 | K11: 145736 | L11: 25066 | M11: 25517
A12: Jan. - July | B12: 438713 | C12: 3558 | D12: 84944 | E12: 89609 | F12: 1087 | G12: 40038 | H12: 36825 | I12: 30330 | J12: 37928 | K12: 84822 | L12: 14628 | M12: 14942
A13: January | B13: 62185 | C13: 480 | D13: 12743 | E13: 12247 | F13: 163 | G13: 5576 | H13: 5293 | I13: 4011 | J13: 5394 | K13: 12113 | L13: 2041 | M13: 2124
A14: February | B14: 62086 | C14: 486 | D14: 12329 | E14: 12529 | F14: 157 | G14: 5543 | H14: 5160 | I14: 3980 | J14: 5485 | K14: 12211 | L14: 2085 | M14: 2122
A15: March | B15: 62079 | C15: 495 | D15: 12181 | E15: 12358 | F15: 155 | G15: 5582 | H15: 5200 | I15: 4127 | J15: 5478 | K15: 12271 | L15: 2101 | M15: 2130
A16: April | B16: 63222 | C16: 541 | D16: 11955 | E16: 13252 | F16: 157 | G16: 5694 | H16: 5266 | I16: 4453 | J16: 5374 | K16: 12292 | L16: 2091 | M16: 2148
A17: May | B17: 62992 | C17: 553 | D17: 11923 | E17: 12917 | F17: 157 | G17: 5794 | H17: 5237 | I17: 4623 | J17: 5340 | K17: 12206 | L17: 2091 | M17: 2152
A18: June | B18: 63394 | C18: 536 | D18: 11952 | E18: 13292 | F18: 153 | G18: 5885 | H18: 5305 | I18: 4638 | J18: 5376 | K18: 12014 | L18: 2100 | M18: 2144
A19: July | B19: 62755 | C19: 467 | D19: 11861 | E19: 13014 | F19: 146 | G19: 5964 | H19: 5364 | I19: 4499 | J19: 5482 | K19: 11715 | L19: 2119 | M19: 2122
A20: August | B20: 62770 | C20: 500 | D20: 11635 | E20: 13053 | F20: 160 | G20: 6144 | H20: 5403 | I20: 4433 | J20: 5563 | K20: 11649 | L20: 2121 | M20: 2110
A21: September | B21: 63997 | C21: 526 | D21: 11810 | E21: 13645 | F21: 195 | G21: 6422 | H21: 5312 | I21: 4442 | J21: 5617 | K21: 11815 | L21: 2105 | M21: 2109
A22: October | B22: 65008 | C22: 550 | D22: 12094 | E22: 13629 | F22: 251 | G22: 6800 | H22: 5115 | I22: 4525 | J22: 5645 | K22: 12213 | L22: 2070 | M22: 2117
... A24: December | B24: 65907 | C24: 648 | D24: 11985 | E24: 13813 | F24: 246 | G24: 7077 | H24: 5129 | I24: 4370 | J24: 5718 | K24: 12723 | L24: 2080 | M24: 2119
A25: 2024
A26: Jan. - Dec. | B26: 840877 | C26: 7540 | D26: 154749 | E26: 178914 | F26: 2416 | G26: 95134 | H26: 63371 | I26: 54037 | J26: 72634 | K26: 159687 | L26: 26786 | M26: 25609
A27: Jan. - July | B27: 477403 | C27: 4104 | D27: 88811 | E27: 101804 | F27: 1213 | G27: 52731 | H27: 36506 | I27: 29999 | J27: 40885 | K27: 91211 | L27: 15247 | M27: 14893
A28: January | B28: 66017 | C28: 723 | D28: 12164 | E28: 13858 | F28: 184 | G28: 6975 | H28: 5145 | I28: 4133 | J28: 5764 | K28: 12835 | L28: 2123 | M28: 2112
A29: February | B29: 68021 | C29: 734 | D29: 13087 | E29: 14911 | F29: 150 | G29: 6983 | H29: 5165 | I29: 4020 | J29: 5777 | K29: 12928 | L29: 2154 | M29: 2112
A30: March | B30: 67275 | C30: 678 | D30: 12520 | E30: 14609 | F30: 143 | G30: 7099 | H30: 5144 | I30: 4031 | J30: 5759 | K30: 13001 | L30: 2174 | M30: 2118
A31: April | B31: 67509 | C31: 560 | D31: 12681 | E31: 14357 | F31: 162 | G31: 7324 | H31: 5182 | I31: 4166 | J31: 5708 | K31: 13055 | L31: 2182 | M31: 2132
A32: May | B32: 68481 | C32: 471 | D32: 12830 | E32: 14632 | F32: 179 | G32: 7652 | H32: 5233 | I32: 4290 | J32: 5763 | K32: 13099 | L32: 2192 | M32: 2139
A33: June | B33: 69367 | C33: 477 | D33: 12723 | E33: 14802 | F33: 192 | G33: 8082 | H33: 5283 | I33: 4404 | J33: 5924 | K33: 13134 | L33: 2205 | M33: 2142
A34: July | B34: 70733 | C34: 462 | D34: 12805 | E34: 14636 | F34: 202 | G34: 8615 | H34: 5354 | I34: 4953 | J34: 6191 | K34: 13159 | L34: 2217 | M34: 2139
A35: August | B35: 71862 | C35: 485 | D35: 12539 | E35: 14969 | F35: 214 | G35: 8853 | H35: 5394 | I35: 5401 | J35: 6352 | K35: 13271 | L35: 2246 | M35: 2138
A36: September | B36: 71979 | C36: 589 | D36: 13243 | E36: 14778 | F36: 228 | G36: 8797 | H36: 5415 | I36: 4633 | J36: 6407 | K36: 13469 | L36: 2279 | M36: 2140
A37: October | B37: 72722 | C37: 720 | D37: 13081 | E37: 15633 | F37: 245 | G37: 8446 | H37: 5369 | I37: 4656 | J37: 6358 | K37: 13754 | L37: 2317 | M37: 2144
... A39: December | B39: 73841 | C39: 853 | D39: 13768 | E39: 15986 | F39: 261 | G39: 8095 | H39: 5349 | I39: 4678 | J39: 6308 | K39: 14039 | L39: 2355 | M39: 2148
A40: 2025
A41: Jan. - July | B41: 516742 | C41: 4176 | D41: 92872 | E41: 108643 | F41: 1445 | G41: 57551 | H41: 38994 | I41: 32048 | J41: 47650 | K41: 102254 | L41: 16136 | M41: 14973
A42: January (R) | B42: 72934 | C42: 712 | D42: 13510 | E42: 15417 | F42: 250 | G42: 8048 | H42: 5399 | I42: 4517 | J42: 6494 | K42: 14181 | L42: 2252 | M42: 2155
A43: February (R) | B43: 73029 | C43: 550 | D43: 13464 | E43: 15486 | F43: 236 | G43: 8049 | H43: 5480 | I43: 4445 | J43: 6637 | K43: 14319 | L43: 2209 | M43: 2155
...

Sheet 5
A2: Part A: Seasonally Adjusted (by Commodity/Service)
A3: =VLOOKUP(A2,'Table of Contents'!A:C,3,0) -> 상품 및 서비스별 계절조정계열
A4: Exhibit 5. U.S. Trade in Goods
A5: =VLOOKUP(MID(A4,SEARCH(".",A4)+2,LEN(A4)),'Table of Contents'!B:C,2,0) -> 상품 무역
A6: In millions of dollars. Details may not equal totals due to seasonal adjustment and rounding. (R) - Revised.
A7: 단위: 백만 달러. 계절조정과 반올림 때문에 총계와 세부사항이 같지 않을 수 있음. (R) - 수정치.
A8: Period | B8: Balance | D8: Exports | G8: Imports
B9: Total Balance of Payments Basis | C9: Total Census Basis | D9: Total Balance of Payments Basis | E9: Net Adjustments | F9: Total Census Basis | G9: Total Balance of Payments Basis | H9: Net Adjustments | I9: Total Census Basis
A10: 기간 | B10: 수지 | D10: 수출 | G10: 수입
B11: 국제수지 기준 | C11: 전수조사 기준 | D11: 국제수지 기준 | E11: 순 조정 | F11: 전수조사 기준 | G11: 국제수지 기준 | H11: 순 조정 | I11: 전수조사 기준
A12: 2023
A13: Jan. - Dec. | B13: -1057495 | C13: -1056317 | D13: 2047457 | E13: 26978 | F13: 2020479 | G13: 3104952 | H13: 28155 | I13: 3076796
A14: Jan. - July | B14: -625670 | C14: -625016 | D14: 1185535 | E14: 15511 | F14: 1170025 | G14: 1811206 | H14: 16165 | I14: 1795041
A15: January | B15: -91071 | C15: -90166 | D15: 175518 | E15: 1540 | F15: 173978 | G15: 266589 | H15: 2445 | I15: 264144
A16: February | B16: -92171 | C16: -91270 | D16: 169282 | E16: 1590 | F16: 167692 | G16: 261453 | H16: 2491 | I16: 258962
A17: March | B17: -81937 | C17: -81313 | D17: 174112 | E17: 1935 | F17: 172177 | G17: 256049 | H17: 2559 | I17: 253489
A18: April | B18: -93950 | C18: -94249 | D18: 167547 | E18: 2648 | F18: 164899 | G18: 261497 | H18: 2349 | I18: 259147
A19: May | B19: -89397 | C19: -89856 | D19: 165994 | E19: 2619 | F19: 163375 | G19: 255391 | H19: 2160 | I19: 253231
A20: June | B20: -88851 | C20: -89124 | D20: 164797 | E20: 2344 | F20: 162453 | G20: 253648 | H20: 2071 | I20: 251577
A21: July | B21: -88294 | C21: -89040 | D21: 168286 | E21: 2835 | F21: 165451 | G21: 256580 | H21: 2089 | I21: 254491
A22: August | B22: -84221 | C22: -84234 | D22: 172138 | E22: 2428 | F22: 169710 | G22: 256358 | H22: 2415 | I22: 253943
A23: September | B23: -83759 | C23: -84128 | D23: 175342 | E23: 2761 | F23: 172582 | G23: 259101 | H23: 2391 | I23: 256710
A24: October | B24: -87230 | C24: -87016 | D24: 174325 | E24: 2249 | F24: 172076 | G24: 261555 | H24: 2463 | I24: 259092
... A26: December | B26: -88171 | C26: -87237 | D26: 171647 | E26: 1404 | F26: 170243 | G26: 259819 | H26: 2339 | I26: 257480
A27: 2024
A28: Jan. - Dec. | B28: -1215403 | C28: -1204719 | D28: 2079777 | E28: 18086 | F28: 2061691 | G28: 3295180 | H28: 28770 | I28: 3266410
A29: Jan. - July | B29: -681652 | C29: -673749 | D29: 1208413 | E29: 9532 | F29: 1198881 | G29: 1890065 | H29: 17434 | I29: 1872630
A30: January | B30: -92640 | C30: -91221 | D30: 170216 | E30: 1327 | F30: 168889 | G30: 262856 | H30: 2745 | I30: 260111
A31: February | B31: -92390 | C31: -90955 | D31: 175344 | E31: 1252 | F31: 174092 | G31: 267734 | H31: 2686 | I31: 265047
A32: March | B32: -93122 | C32: -92063 | D32: 171506 | E32: 1261 | F32: 170245 | G32: 264629 | H32: 2320 | I32: 262308
A33: April | B33: -98957 | C33: -97326 | D33: 173037 | E33: 1096 | F33: 171941 | G33: 271994 | H33: 2727 | I33: 269267
A34: May | B34: -100630 | C34: -99455 | D34: 170321 | E34: 1478 | F34: 168843 | G34: 270951 | H34: 2653 | I34: 268298
A35: June | B35: -99563 | C35: -98813 | D35: 173318 | E35: 1298 | F35: 172020 | G35: 272881 | H35: 2048 | I35: 270833
A36: July | B36: -104350 | C36: -103916 | D36: 174671 | E36: 1821 | F36: 172851 | G36: 279021 | H36: 2255 | I36: 276766
A37: August | B37: -97117 | C37: -96062 | D37: 177954 | E37: 1239 | F37: 176715 | G37: 275071 | H37: 2294 | I37: 272777
A38: September | B38: -107722 | C38: -107070 | D38: 175484 | E38: 1545 | F38: 173939 | G38: 283206 | H38: 2197 | I38: 281009
A39: October | B39: -100088 | C39: -99438 | D39: 170941 | E39: 1681 | F39: 169260 | G39: 271029 | H39: 2330 | I39: 268699
... A41: December | B41: -122822 | C41: -122255 | D41: 170476 | E41: 1841 | F41: 168636 | G41: 293299 | H41: 2408 | I41: 290890
A42: 2025
A43: Jan. - July | B43: -839640 | C43: -834562 | D43: 1268557 | E43: 9015 | F43: 1259541 | G43: 2108197 | H43: 14094 | I43: 2094103
...

Sheet 6
A2: Part A: Seasonally Adjusted (by Commodity/Service)
A3: =VLOOKUP(A2,'Table of Contents'!A:C,3,0) -> 상품 및 서비스별 계절조정계열
A4: Exhibit 6. U.S. Trade in Goods by Principal End-Use Category
A5: =VLOOKUP(MID(A4,SEARCH(".",A4)+2,LEN(A4)),'Table of Contents'!B:C,2,0) -> 주된 최종용도별 상품 무역
A6: In millions of dollars. Details may not equal totals due to seasonal adjustment and rounding. (R) - Revised.
A7: 단위: 백만 달러. 계절조정과 반올림 때문에 총계와 세부사항이 같지 않을 수 있음. (R) - 수정치.
A8: Period | B8: Total Balance of Payments Basis | C8: Net Adjustments | D8: Total Census Basis (1) | E8: End-Use Commodity Category
E9: Foods, Feeds, & Beverages | F9: Industrial Supplies (2) | G9: Capital Goods | H9: Automotive Vehicles, etc. | I9: Consumer Goods | J9: Other Goods
A10: 기간 | B10: 국제수지 기준 | C10: 순조정 | D10: 전수조사 기준 | E10: 상품 최종용도
E11: 식료품, 사료 및 음료 | F11: 산업용품 | G11: 자본재 | H11: 자동차 등 | I11: 소비재 | J11: 기타 상품
B12: Exports 수출
A13: 2024
A14: Jan. - Dec. | B14: 2079777 | C14: 18086 | D14: 2061691 | E14: 165768 | F14: 727919 | G14: 646357 | H14: 172248 | I14: 260101 | J14: 89298
A15: Jan. - July | B15: 1208413 | C15: 9532 | D15: 1198881 | E15: 95682 | F15: 426739 | G15: 371561 | H15: 101675 | I15: 152491 | J15: 50735
A16: January | B16: 170216 | C16: 1327 | D16: 168889 | E16: 13507 | F16: 60170 | G16: 51459 | H16: 14958 | I16: 21621 | J16: 7175
A17: February | B17: 175344 | C17: 1252 | D17: 174092 | E17: 14509 | F17: 63798 | G17: 53035 | H17: 14322 | I17: 21411 | J17: 7017
A18: March | B18: 171506 | C18: 1261 | D18: 170245 | E18: 13952 | F18: 62306 | G18: 51350 | H18: 14251 | I18: 21240 | J18: 7145
A19: April | B19: 173037 | C19: 1096 | D19: 171941 | E19: 13484 | F19: 60664 | G19: 53040 | H19: 14964 | I19: 22298 | J19: 7490
A20: May | B20: 170321 | C20: 1478 | D20: 168843 | E20: 13117 | F20: 59145 | G20: 52593 | H20: 14516 | I20: 22251 | J20: 7222
A21: June | B21: 173318 | C21: 1298 | D21: 172020 | E21: 13534 | F21: 59979 | G21: 54143 | H21: 15112 | I21: 22017 | J21: 7235
A22: July | B22: 174671 | C22: 1821 | D22: 172851 | E22: 13580 | F22: 60677 | G22: 55940 | H22: 13550 | I22: 21652 | J22: 7451
A23: August | B23: 177954 | C23: 1239 | D23: 176715 | E23: 13315 | F23: 61283 | G23: 57352 | H23: 14265 | I23: 22411 | J23: 8089
A24: September | B24: 175484 | C24: 1545 | D24: 173939 | E24: 14139 | F24: 59724 | G24: 56091 | H24: 14903 | I24: 21671 | J24: 7412
A25: October | B25: 170941 | C25: 1681 | D25: 169260 | E25: 13911 | F25: 59258 | G25: 53620 | H25: 13548 | I25: 21135 | J25: 7787
... A27: December | B27: 170476 | C27: 1841 | D27: 168636 | E27: 14273 | F27: 59579 | G27: 53121 | H27: 13422 | I27: 20401 | J27: 7840
A28: 2025
A29: Jan. - July | B29: 1268557 | C29: 9015 | D29: 1259541 | E29: 94481 | F29: 447214 | G29: 410508 | H29: 92759 | I29: 154449 | J29: 60131
A30: January (R) | B30: 173735 | C30: 1099 | D30: 172636 | E30: 13471 | F30: 59205 | G30: 56860 | H30: 12571 | I30: 21745 | J30: 8784
A31: February (R) | B31: 180967 | C31: 2873 | D31: 178094 | E31: 12896 | F31: 62081 | G31: 59209 | H31: 14392 | I31: 22073 | J31: 7442
A32: March (R) | B32: 184226 | C32: 1585 | D32: 182641 | E32: 14002 | F32: 64877 | G32: 58358 | H32: 15401 | I32: 22004 | J32: 8000
A33: April (R) | B33: 190893 | C33: 810 | D33: 190082 | E33: 13513 | F33: 75290 | G33: 59300 | H33: 12085 | I33: 20988 | J33: 8908
A34: May (R) | B34: 180093 | C34: 723 | D34: 179370 | E34: 13116 | F34: 65210 | G34: 57437 | H34: 12526 | I34: 21955 | J34: 9126
A35: June (R) | B35: 179217 | C35: 870 | D35: 178347 | E35: 13703 | F35: 60395 | G35: 59396 | H35: 12722 | I35: 22945 | J35: 9186
A36: July | B36: 179425 | C36: 1054 | D36: 178371 | E36: 13779 | F36: 60157 | G36: 59948 | H36: 13062 | I36: 22738 | J36: 8686
A37: August
A38: September
A39: October
A40: November
A41: December
B42: Imports 수입
...

Sheet 7
A2: Part A: Seasonally Adjusted (by Commodity/Service)
A3: =VLOOKUP(A2,'Table of Contents'!A:C,3,0) -> 상품 및 서비스별 계절조정계열
A4: Exhibit 7. U.S. Exports of Goods by End-Use Category and Commodity
A5: =VLOOKUP(MID(A4,SEARCH(".",A4)+2,LEN(A4)),'Table of Contents'!B:C,2,0) -> 최종용도별 및 상품별 상품 수출
A6: In millions of dollars. Details may not equal totals due to seasonal adjustment and rounding. The commodities in this exhibit are ranked
A7: on the monthly change within each major commodity grouping. (-) Represents zero or less than one-half of measurement shown. (R) - Revised.
A8: 단위: 백만 달러. 계절조정과 반올림 때문에 총계와 세부사항이 같지 않을 수 있음. 이 표에 있는 상품들은 각 주요 상품 분류 내 전월대비 변화를 기준으로 순위가 매겨짐. (-) 표시된 측정값의 0 또는 절반 미만을 나타냄. (R) - 수정치.
A9: Item (1) | B9: 품목 | C9: July | D9: June | E9: Monthly | F9: Year-to-Date | G9: Year-to-Date | H9: Year-to-Date
C10: 2025 | D10: 2025 (R) | E10: Change | F10: 2025 | G10: 2024 | H10: Change
A11: Total, Balance of Payments Basis | B11: 전체, 국제수지 기준 | C11: 179425 | D11: 179217 | E11: 208 | F11: 1268557 | G11: 1208413 | H11: 60144
A12: Net Adjustments | B12: 순조정 | C12: 1054 | D12: 870 | E12: 184 | F12: 9015 | G12: 9532 | H12: -517
A13: Total, Census Basis | B13: 전체, 전수조사 기준 | C13: 178371 | D13: 178347 | E13: 23 | F13: 1259541 | G13: 1198881 | H13: 60660
A14: Foods, feeds, and beverages | B14: 식료품, 사료 및 음료 | C14: 13779 | D14: 13703 | E14: 76 | F14: 94481 | G14: 95682 | H14: -1201
A15: Soybeans | B15: 대두 | C15: 2087 | D15: 1995 | E15: 92 | F15: 12864 | G15: 15441 | H15: -2578
A16: Wheat | B16: 밀 | C16: 579 | D16: 531 | E16: 48 | F16: 3579 | G16: 3560 | H16: 19
A17: Fruits, frozen juices | B17: 과일, 냉동 주스 | C17: 815 | D17: 776 | E17: 39 | F17: 5381 | G17: 5452 | H17: -71
A18: Nuts | B18: 견과류 | C18: 1070 | D18: 1031 | E18: 39 | F18: 6798 | G18: 6239 | H18: 559
A19: Dairy products and eggs | B19: 유제품 및 난류 | C19: 689 | D19: 660 | E19: 29 | F19: 4511 | G19: 3851 | H19: 660
A20: Rice | B20: 쌀 | C20: 159 | D20: 138 | E20: 21 | F20: 1143 | G20: 1478 | H20: -335
A21: Meat, poultry, etc. | B21: 육류, 가금류 등 | C21: 2002 | D21: 1983 | E21: 19 | F21: 14536 | G21: 14990 | H21: -453
A22: Wine, beer, and related products | B22: 와인, 맥주 및 관련 제품 | C22: 103 | D22: 93 | E22: 10 | F22: 778 | G22: 1009 | H22: -231
... A132: Books, printed matter | B132: 서적, 인쇄물 | C132: 296 | D132: 297 | E132: -1 | F132: 2188 | G132: 2157 | H132: 30
A133: Nursery stock, etc. | B133: 유아용품 등 | C133: 42 | D133: 42 | E133: (-) | F133: 277 | G133: 283 | H133: -5
A134: Cell phones and other household goods | B134: 휴대폰 및 기타 가정용품 | C134: 3154 | D134: 3153 | E134: 1 | F134: 21307 | G134: 19207 | H134: 2100
A135: Glassware, chinaware | B135: 유리제품, 도자기 | C135: 34 | D135: 31 | E135: 3 | F135: 236 | G135: 262 | H135: -27
A136: Cookware, cutlery, tools | B136: 조리기구, 식기류, 도구 | C136: 89 | D136: 85 | E136: 4 | F136: 651 | G136: 694 | H136: -43
A137: Recorded media | B137: 기록 매체 | C137: 89 | D137: 84 | E137: 5 | F137: 653 | G137: 742 | H137: -89
A138: Televisions and video equipment | B138: 텔레비전 및 영상 장비 | C138: 186 | D138: 180 | E138: 5 | F138: 1335 | G138: 1591 | H138: -256
A139: Furniture, household goods, etc. | B139: 가구, 가정용품 등 | C139: 406 | D139: 397 | E139: 9 | F139: 2920 | G139: 3161 | H139: -241
A140: Stereo equipment, etc. | B140: 스테레오 장비 등 | C140: 254 | D140: 240 | E140: 14 | F140: 1748 | G140: 1690 | H140: 57
A141: Numismatic coins | B141: 화폐 동전 | C141: 104 | D141: 88 | E141: 16 | F141: 786 | G141: 457 | H141: 328
A142: Musical instruments | B142: 악기 | C142: 208 | D142: 184 | E142: 24 | F142: 1475 | G142: 1524 | H142: -49
A143: Textile apparel and household goods | B143: 섬유 의류 및 가정용품 | C143: 622 | D143: 586 | E143: 36 | F143: 4467 | G143: 4793 | H143: -326
A144: Toiletries and cosmetics | B144: 세면용품 및 화장품 | C144: 1311 | D144: 1246 | E144: 65 | F144: 8822 | G144: 9037 | H144: -216
A145: Jewelry | B145: 귀금속 | C145: 1014 | D145: 891 | E145: 123 | F145: 7766 | G145: 8107 | H145: -341
... A147: Other goods | B147: 기타 상품 | C147: 8686 | D147: 9186 | E147: -499 | F147: 60131 | G147: 50735 | H147: 9396
A148: (1) Detailed data are presented on a Census basis. The information needed to convert to a BOP basis is not available.
A149: =HLOOKUP(A148,'6'!$72:$73,2,0) -> 세부수치는 전수조사 기준에 제시되어 있으며, 국제수지 기준으로 변환하는데 필요한 정보는 제공되지 아니합니다.
A151: NOTE: For information on data sources, nonsampling errors, definitions, and details concerning what is included in Net Adjustments, see the
A152: explanatory notes in this release or at www.census.gov/ft900 or www.bea.gov/data/intl-trade-investment/international-trade-goods-and-services.
...

Sheet 8
A2: Part A: Seasonally Adjusted (by Commodity/Service)
A3: =VLOOKUP(A2,'Table of Contents'!A:C,3,0) -> 상품 및 서비스별 계절조정계열
A4: Exhibit 8. U.S. Imports of Goods by End-Use Category and Commodity
A5: =VLOOKUP(MID(A4,SEARCH(".",A4)+2,LEN(A4)),'Table of Contents'!B:C,2,0) -> 최종용도별 및 상품별 상품 수입
A6: In millions of dollars. Details may not equal totals due to seasonal adjustment and rounding. The commodities in this exhibit are ranked
A7: on the monthly change within each major commodity grouping. (-) Represents zero or less than one-half of measurement shown. (R) - Revised.
A8: 단위: 백만 달러. 계절조정과 반올림 때문에 총계와 세부사항이 같지 않을 수 있음. 이 표에 있는 상품들은 각 주요 상품 분류 내 전월대비 변화를 기준으로 순위가 매겨짐. (-) 표시된 측정값의 0 또는 절반 미만을 나타냄. (R) - 수정치.
A9: Item (1) | B9: 품목 | C9: July | D9: June | E9: Monthly | F9: Year-to-Date | G9: Year-to-Date | H9: Year-to-Date
C10: 2025 | D10: 2025 (R) | E10: Change | F10: 2025 | G10: 2024 | H10: Change
A11: Total, Balance of Payments Basis | B11: 전체, 국제수지 기준 | C11: 283301 | D11: 264934 | E11: 18367 | F11: 2108197 | G11: 1890065 | H11: 218133
A12: Net Adjustments | B12: 순조정 | C12: 2091 | D12: 2009 | E12: 82 | F12: 14094 | G12: 17434 | H12: -3340
A13: Total, Census Basis | B13: 전체, 전수조사 기준 | C13: 281211 | D13: 262926 | E13: 18285 | F13: 2094103 | G13: 1872630 | H13: 221473
A14: Foods, feeds, and beverages | B14: 식료품, 사료 및 음료 | C14: 18503 | D14: 18063 | E14: 440 | F14: 132163 | G14: 122303 | H14: 9861
A15: Fruits, frozen juices | B15: 과일, 냉동 주스 | C15: 2686 | D15: 2412 | E15: 274 | F15: 18106 | G15: 16688 | H15: 1418
A16: Vegetables | B16: 채소 | C16: 1714 | D16: 1590 | E16: 124 | F16: 11286 | G16: 12354 | H16: -1068
A17: Meat products | B17: 육류 제품 | C17: 1850 | D17: 1741 | E17: 109 | F17: 12967 | G17: 11212 | H17: 1755
A18: Cane and beet sugar | B18: 사탕수수 및 사탕무 설탕 | C18: 231 | D18: 127 | E18: 104 | F18: 1245 | G18: 1540 | H18: -295
A19: Feedstuff and foodgrains | B19: 사료 및 식용곡물 | C19: 834 | D19: 740 | E19: 94 | F19: 5657 | G19: 5558 | H19: 99
A20: Food oils, oilseeds | B20: 식용유, 기름종자 | C20: 877 | D20: 815 | E20: 62 | F20: 6155 | G20: 6805 | H20: -650
A21: Green coffee | B21: 녹차 | C21: 929 | D21: 920 | E21: 9 | F21: 6050 | G21: 3278 | H21: 2772
A22: Nonagricultural foods, etc. | B22: 비농업 식료품 등 | C22: 125 | D22: 116 | E22: 9 | F22: 857 | G22: 766 | H22: 90
... A69: Wool, silk, etc. | B69: 양모, 실크 등 | C69: 55 | D69: 54 | E69: 1 | F69: 385 | G69: 398 | H69: -13
A70: Plastic materials | B70: 플라스틱 자재 | C70: 1638 | D70: 1638 | E70: (-) | F70: 11930 | G70: 12228 | H70: -298
A71: Hides and skins | B71: 가죽 | C71: 2 | D71: 2 | E71: (-) | F71: 16 | G71: 15 | H71: 1
A72: Cotton, natural fibers | B72: 면, 천연 섬유 | C72: 6 | D72: 7 | E72: -1 | F72: 49 | G72: 51 | H72: -2
A73: Newsprint | B73: 신문 용지 | C73: 28 | D73: 29 | E73: -1 | F73: 228 | G73: 257 | H73: -29
A74: Synthetic rubber--primary | B74: 1차 합성고무 | C74: 252 | D74: 253 | E74: -2 | F74: 1750 | G74: 1762 | H74: -12
A75: Liquefied petroleum gases | B75: 액화석유가스 | C75: 256 | D75: 258 | E75: -2 | F75: 2001 | G75: 2007 | H75: -6
A76: Zinc | B76: 아연 | C76: 143 | D76: 184 | E76: -41 | F76: 1133 | G76: 1066 | H76: 67
A77: Paper and paper products | B77: 종이 및 종이제품 | C77: 723 | D77: 772 | E77: -48 | F77: 5691 | G77: 5617 | H77: 74
A78: Other nonferrous metals | B78: 기타 비철금속 | C78: 448 | D78: 496 | E78: -49 | F78: 3261 | G78: 2804 | H78: 457
A79: Other chemicals | B79: 기타 화학물질 | C79: 1625 | D79: 1689 | E79: -64 | F79: 11461 | G79: 11087 | H79: 373
A80: Natural gas | B80: 천연가스 | C80: 562 | D80: 629 | E80: -67 | F80: 6331 | G80: 3813 | H80: 2518
A81: Bauxite and aluminum | B81: 보크사이트 및 알루미늄 | C81: 1102 | D81: 1252 | E81: -149 | F81: 10256 | G81: 9831 | H81: 425
A82: Nuclear fuel materials | B82: 핵연료 자재 | C82: 345 | D82: 595 | E82: -250 | F82: 4823 | G82: 4869 | H82: -46
A83: Other petroleum products | B83: 기타 석유 제품 | C83: 2445 | D83: 3200 | E83: -755 | F83: 20291 | G83: 26984 | H83: -6693
... A110: Spacecraft, excluding military | B110: 우주선; 군용 제외 | C110: 17 | D110: 15 | E110: 2 | F110: 85 | G110: 49 | H110: 35
A111: Vessels, except scrap | B111: 선박, 고철 제외 | C111: (-) | D111: (-) | E111: (-) | F111: 1 | G111: 2 | H111: -1
A112: Commercial vessels, other | B112: 상선, 기타 | C112: 9 | D112: 10 | E112: (-) | F112: 75 | G112: 108 | H112: -32
A113: Textile, sewing machines | B113: 섬유, 재봉틀 | C113: 159 | D113: 162 | E113: -3 | F113: 1162 | G113: 1251 | H113: -89
...

Sheet 9
A2: Part A: Seasonally Adjusted (by Commodity/Service)
A3: =VLOOKUP(A2,'Table of Contents'!A:C,3,0) -> 상품 및 서비스별 계절조정계열
A4: Exhibit 9. U.S. Trade in Petroleum and Non-Petroleum Products by End-Use
A5: =VLOOKUP(MID(A4,SEARCH(".",A4)+2,LEN(A4)),'Table of Contents'!B:C,2,0) -> 최종용도별 석유와 비석유 무역
A6: In millions of dollars. Details may not equal totals due to seasonal adjustment and rounding. (R) - Revised.
A7: 단위: 백만 달러. 계절조정과 반올림 때문에 총계와 세부사항이 같지 않을 수 있음. (R) - 수정치.
A8: Period | B8: Balance | F8: Exports | J8: Imports
B9: Total | C9: Net Adjust- ments | D9: Petroleum (1) | E9: Non-petroleum | F9: Total | G9: Net Adjust- ments | H9: Petroleum (1) | I9: Non-petroleum | J9: Total | K9: Net Adjust- ments | L9: Petroleum (1) | M9: Non-petroleum
A10: 기간 | B10: 수지 | F10: 수출 | J10: 수입
B11: 전체 | C11: 순 조정 | D11: 석유 | E11: 비석유 | F11: 전체 | G11: 순 조정 | H11: 석유 | I11: 비석유 | J11: 전체 | K11: 순 조정 | L11: 석유 | M11: 비석유
A12: 2024
A13: Jan. - Dec. | B13: -1215403 | C13: -10683 | D13: 43861 | E13: -1248580 | F13: 2079777 | G13: 18086 | H13: 280403 | I13: 1781288 | J13: 3295180 | K13: 28770 | L13: 236542 | M13: 3029868
A14: Jan. - July | B14: -681652 | C14: -7902 | D14: 23241 | E14: -696990 | F14: 1208413 | G14: 9532 | H14: 166581 | I14: 1032300 | J14: 1890065 | K14: 17434 | L14: 143340 | M14: 1729290
A15: January | B15: -92640 | C15: -1418 | D15: 2884 | E15: -94106 | F15: 170216 | G15: 1327 | H15: 22532 | I15: 146357 | J15: 262856 | K15: 2745 | L15: 19648 | M15: 240463
A16: February | B16: -92390 | C16: -1434 | D16: 4536 | E16: -95492 | F16: 175344 | G16: 1252 | H16: 24583 | I16: 149509 | J16: 267734 | K16: 2686 | L16: 20047 | M16: 245001
A17: March | B17: -93122 | C17: -1060 | D17: 4713 | E17: -96776 | F17: 171506 | G17: 1261 | H17: 24784 | I17: 145462 | J17: 264629 | K17: 2320 | L17: 20070 | M17: 242238
A18: April | B18: -98957 | C18: -1630 | D18: 3179 | E18: -100506 | F18: 173037 | G18: 1096 | H18: 23892 | I18: 148049 | J18: 271994 | K18: 2727 | L18: 20713 | M18: 248555
A19: May | B19: -100630 | C19: -1175 | D19: 1614 | E19: -101069 | F19: 170321 | G19: 1478 | H19: 23345 | I19: 145498 | J19: 270951 | K19: 2653 | L19: 21730 | M19: 246568
A20: June | B20: -99563 | C20: -750 | D20: 2894 | E20: -101706 | F20: 173318 | G20: 1298 | H20: 23423 | I20: 148597 | J20: 272881 | K20: 2048 | L20: 20529 | M20: 250303
A21: July | B21: -104350 | C21: -434 | D21: 3420 | E21: -107336 | F21: 174671 | G21: 1821 | H21: 24023 | I21: 148828 | J21: 279021 | K21: 2255 | L21: 20603 | M21: 256163
A22: August | B22: -97117 | C22: -1055 | D22: 4322 | E22: -100384 | F22: 177954 | G22: 1239 | H22: 23657 | I22: 153058 | J22: 275071 | K22: 2294 | L22: 19336 | M22: 253442
A23: September | B23: -107722 | C23: -652 | D23: 3010 | E23: -110080 | F23: 175484 | G23: 1545 | H23: 21854 | I23: 152085 | J23: 283206 | K23: 2197 | L23: 18843 | M23: 262166
A24: October | B24: -100088 | C24: -650 | D24: 4807 | E24: -104245 | F24: 170941 | G24: 1681 | H24: 22472 | I24: 146788 | J24: 271029 | K24: 2330 | L24: 17666 | M24: 251033
... A26: December | B26: -122822 | C26: -568 | D26: 3337 | E26: -125592 | F26: 170476 | G26: 1841 | H26: 22352 | I26: 146283 | J26: 293299 | K26: 2408 | L26: 19015 | M26: 271875
A27: 2025
A28: Jan. - July | B28: -839640 | C28: -5078 | D28: 30669 | E28: -865231 | F28: 1268557 | G28: 9015 | H28: 148825 | I28: 1110716 | J28: 2108197 | K28: 14094 | L28: 118157 | M28: 1975947
A29: January (R) | B29: -156077 | C29: -918 | D29: 4021 | E29: -159180 | F29: 173735 | G29: 1099 | H29: 23135 | I29: 149502 | J29: 329812 | K29: 2017 | L29: 19114 | M29: 308682
A30: February (R) | B30: -147190 | C30: 734 | D30: 3371 | E30: -151296 | F30: 180967 | G30: 2873 | H30: 21987 | I30: 156107 | J30: 328158 | K30: 2139 | L30: 18616 | M30: 307403
A31: March (R) | B31: -162517 | C31: -566 | D31: 4618 | E31: -166569 | F31: 184226 | G31: 1585 | H31: 22455 | I31: 160186 | J31: 346743 | K31: 2151 | L31: 17837 | M31: 326755
A32: April (R) | B32: -86912 | C32: -1014 | D32: 4869 | E32: -90767 | F32: 190893 | G32: 810 | H32: 20698 | I32: 169385 | J32: 277805 | K32: 1824 | L32: 15829 | M32: 260152
A33: May (R) | B33: -97352 | C33: -1141 | D33: 3608 | E33: -99819 | F33: 180093 | G33: 723 | H33: 19678 | I33: 159691 | J33: 277444 | K33: 1864 | L33: 16070 | M33: 259510
A34: June (R) | B34: -85717 | C34: -1139 | D34: 5225 | E34: -89803 | F34: 179217 | G34: 870 | H34: 20679 | I34: 157668 | J34: 264934 | K34: 2009 | L34: 15454 | M34: 247471
A35: July | B35: -103876 | C35: -1036 | D35: 4957 | E35: -107797 | F35: 179425 | G35: 1054 | H35: 20194 | I35: 158177 | J35: 283301 | K35: 2091 | L35: 15236 | M35: 265974
A36: August
A37: September
A38: October
A39: November
A40: December
A41: (1) The petroleum products aggregated in the end-use commodity classification system include virtually the same energy-related petroleum products as those aggregated in the
A42: Standard International Trade Classification (SITC). The end-use petroleum products, however, include some products such as ethane, butane, benzene, and toluene, which are
...

Sheet 10
A2: Part A: Seasonally Adjusted (by Commodity/Service)
A3: =VLOOKUP(A2,'Table of Contents'!A:C,3,0) -> 상품 및 서비스별 계절조정계열
A4: Exhibit 10. Real U.S. Trade in Goods by Principal End-Use Category
A5: Chained (2017) Dollars
A6: =VLOOKUP(MID(CONCATENATE(A4," ",A5),SEARCH(".",CONCATENATE(A4," ",A5))+2,LEN(CONCATENATE(A4," ",A5))),'Table of Contents'!B:C,2,0) -> 주된 최종용도별 실질 상품 무역, 연쇄가격 2017년
A7: In millions of dollars. Details may not equal totals due to seasonal adjustment and rounding. The values in this exhibit are subject to periodic change,
A8: reflecting revisions to the source information for the monthly deflators. (-) Represents zero or less than one-half of measurement shown. (R) - Revised.
A9: 단위: 백만 달러. 단위: 백만 달러. 계절조정과 반올림 때문에 총계와 세부사항이 같지 않을 수 있음. 이 표에 있는 금액들은 주기적으로 변할 수 있으며, 월별 디플레이터 원천의 개정사항을 반영함. (-) 표시된 측정값의 0 또는 절반 미만을 나타냄. (R) - 수정치.
A10: Period | B10: Total Census Basis (1) | C10: End-Use Commodity Category
C11: Foods, Feeds, & Beverages | D11: Industrial Supplies (2) | E11: Capital Goods | F11: Automotive Vehicles etc. | G11: Consumer Goods | H11: Other Goods | I11: Residual (3)
A12: 기간 | B12: 전수조사 기준 | C12: 상품 최종용도
C13: 식료품, 사료 및 음료 | D13: 산업용품 | E13: 자본재 | F13: 자동차 등 | G13: 소비재 | H13: 기타 상품 | I13: 오차
B14: Exports 수출
A15: 2024
A16: Jan. - Dec. | B16: 1732500 | C16: 127219 | D16: 560798 | E16: 578267 | F16: 151959 | G16: 240409 | H16: 73461 | I16: 386
A17: Jan. - July | B17: 1006988 | C17: 73526 | D17: 326558 | E17: 333406 | F17: 90210 | G17: 141316 | H17: 41729 | I17: 243
A18: January | B18: 143279 | C18: 10314 | D18: 46991 | E18: 46385 | F18: 13363 | G18: 20132 | H18: 5968 | I18: 125
A19: February | B19: 146557 | C19: 11092 | D19: 48918 | E19: 47686 | F19: 12781 | G19: 19940 | H19: 5789 | I19: 351
A20: March | B20: 142954 | C20: 10822 | D20: 47353 | E20: 46221 | F20: 12705 | G20: 19681 | H20: 5876 | I20: 294
A21: April | B21: 143167 | C21: 10472 | D21: 45329 | E21: 47529 | F21: 13256 | G21: 20642 | H21: 6105 | I21: -167
A22: May | B22: 141770 | C22: 10054 | D22: 45406 | E22: 47092 | F22: 12831 | G22: 20589 | H22: 5938 | I22: -139
A23: June | B23: 144950 | C23: 10296 | D23: 46671 | E23: 48401 | F23: 13343 | G23: 20352 | H23: 5970 | I23: -83
A24: July | B24: 144311 | C24: 10475 | D24: 45890 | E24: 50092 | F24: 11932 | G24: 19980 | H24: 6082 | I24: -139
A25: August | B25: 148682 | C25: 10431 | D25: 47248 | E25: 51308 | F25: 12542 | G25: 20661 | H25: 6658 | I25: -166
A26: September | B26: 147494 | C26: 10937 | D26: 47291 | E26: 50115 | F26: 13089 | G26: 19935 | H26: 6152 | I26: -25
A27: October | B27: 141723 | C27: 10534 | D27: 45799 | E27: 47683 | F27: 11832 | G27: 19448 | H27: 6381 | I27: 46
... A29: December | B29: 141529 | C29: 10773 | D29: 46393 | E29: 47227 | F29: 11690 | G29: 18797 | H29: 6439 | I29: 209
A30: 2025
A31: Jan. - July | B31: 1038330 | C31: 70503 | D31: 336490 | E31: 363096 | F31: 80164 | G31: 140056 | H31: 48444 | I31: -424
A32: January | B32: 143162 | C32: 10128 | D32: 44664 | E32: 50652 | F32: 10978 | G32: 19901 | H32: 7120 | I32: -282
A33: February | B33: 146934 | C33: 9666 | D33: 46305 | E33: 52707 | F33: 12543 | G33: 20151 | H33: 6001 | I33: -438
A34: March | B34: 151073 | C34: 10485 | D34: 48957 | E34: 51768 | F34: 13381 | G34: 20053 | H34: 6471 | I34: -42
A35: April | B35: 156554 | C35: 10117 | D35: 56671 | E35: 52315 | F35: 10425 | G35: 18996 | H35: 7173 | I35: 857
A36: May | B36: 148016 | C36: 9789 | D36: 49574 | E36: 50457 | F36: 10772 | G36: 19851 | H36: 7362 | I36: 212
A37: June (R) | B37: 146421 | C37: 10165 | D37: 45253 | E37: 52391 | F37: 10927 | G37: 20660 | H37: 7366 | I37: -342
A38: July | B38: 146170 | C38: 10153 | D38: 45067 | E38: 52807 | F38: 11139 | G38: 20443 | H38: 6951 | I38: -389
A39: August
A40: September
A41: October
A42: November
...

Sheet 11
A2: Part A: Seasonally Adjusted (by Commodity/Service)
A3: =VLOOKUP(A2,'Table of Contents'!A:C,3,0) -> 상품 및 서비스별 계절조정계열
A4: Exhibit 11. Real U.S. Trade in Petroleum and Non-Petroleum Products by End-Use
A5: Chained (2017) Dollars
A6: =VLOOKUP(MID(CONCATENATE(A4," ",A5),SEARCH(".",CONCATENATE(A4," ",A5))+2,LEN(CONCATENATE(A4," ",A5))),'Table of Contents'!B:C,2,0) -> 최종용도별 실질 석유 및 비석유 무역, 연쇄가격 2017년
A7: In millions of dollars. Details may not equal totals due to seasonal adjustment and rounding. The values in this exhibit are subject to periodic change,
A8: reflecting revisions to the source information for the monthly deflators. (-) Represents zero or less than one-half of measurement shown. (R) - Revised.
A9: 단위: 백만 달러. 단위: 백만 달러. 계절조정과 반올림 때문에 총계와 세부사항이 같지 않을 수 있음. 이 표에 있는 금액들은 주기적으로 변할 수 있으며, 월별 디플레이터 원천의 개정사항을 반영함. (-) 표시된 측정값의 0 또는 절반 미만을 나타냄. (R) - 수정치.
A10: Period | B10: Balance | F10: Exports | J10: Imports
B11: Total Census Basis (1) | C11: Petroleum | D11: Non-petroleum | E11: Residual (2) | F11: Total Census Basis (1) | G11: Petroleum | H11: Non-petroleum | I11: Residual (2) | J11: Total Census Basis (1) | K11: Petroleum | L11: Non-petroleum | M11: Residual (2)
A12: 기간 | B12: 수지 | F12: 수출 | J12: 수입
B13: 전수조사 기초 | C13: 석유 | D13: 비석유 | E13: 오차 | F13: 전수조사 기초 | G13: 석유 | H13: 비석유 | I13: 오차 | J13: 전수조사 기초 | K13: 석유 | L13: 비석유 | M13: 오차
A14: 2023
A15: Jan. - Dec. | B15: -1027440 | C15: 23822 | D15: -1076571 | E15: 25309 | F15: 1695932 | G15: 177505 | H15: 1494330 | I15: 24097 | J15: 2723372 | K15: 153683 | L15: 2570901 | M15: -1212
A16: Jan. - July | B16: -606333 | C16: 11691 | D16: -631989 | E16: 13965 | F16: 983010 | G16: 101245 | H16: 868510 | I16: 13255 | J16: 1589343 | K16: 89554 | L16: 1500499 | M16: -710
A17: January | B17: -85833 | C17: 48 | D17: -87197 | E17: 1316 | F17: 144760 | G17: 13610 | H17: 129710 | I17: 1440 | J17: 230593 | K17: 13562 | L17: 216907 | M17: 124
A18: February | B18: -88266 | C18: -20 | D18: -89611 | E18: 1365 | F18: 138984 | G18: 13499 | H18: 123929 | I18: 1555 | J18: 227250 | K18: 13519 | L18: 213540 | M18: 191
A19: March | B19: -81093 | C19: 3090 | D19: -86588 | E19: 2405 | F19: 143297 | G19: 15768 | H19: 125215 | I19: 2314 | J19: 224390 | K19: 12678 | L19: 211803 | M19: -91
A20: April | B20: -92775 | C20: 1386 | D20: -96208 | E20: 2047 | F20: 137207 | G20: 14019 | H20: 121373 | I20: 1814 | J20: 229982 | K20: 12633 | L20: 217581 | M20: -233
A21: May | B21: -86222 | C21: 2971 | D21: -91594 | E21: 2400 | F21: 139112 | G21: 15318 | H21: 121634 | I21: 2160 | J21: 225334 | K21: 12346 | L21: 213228 | M21: -240
A22: June | B22: -85940 | C22: 1887 | D22: -89987 | E22: 2159 | F22: 138824 | G22: 14202 | H22: 122701 | I22: 1920 | J22: 224763 | K22: 12315 | L22: 212688 | M22: -239
A23: July | B23: -86203 | C23: 2329 | D23: -90805 | E23: 2273 | F23: 140827 | G23: 14829 | H23: 123947 | I23: 2051 | J23: 227030 | K23: 12501 | L23: 214752 | M23: -222
A24: August | B24: -83325 | C24: 1840 | D24: -87197 | E24: 2032 | F24: 141508 | G24: 14600 | H24: 124952 | I24: 1956 | J24: 224833 | K24: 12759 | L24: 212150 | M24: -76
A25: September | B25: -83996 | C25: 1497 | D25: -87376 | E25: 1883 | F25: 142705 | G25: 14305 | H25: 126621 | I25: 1778 | J25: 226701 | K25: 12808 | L25: 213998 | M25: -104
A26: October | B26: -85191 | C26: 2898 | D26: -90669 | E26: 2581 | F26: 144010 | G26: 15403 | H26: 126366 | I26: 2240 | J26: 229201 | K26: 12505 | L26: 217036 | M26: -340
... A28: December | B28: -83476 | C28: 3617 | D28: -89651 | E28: 2558 | F28: 144885 | G28: 16994 | H28: 125200 | I28: 2692 | J28: 228362 | K28: 13377 | L28: 214851 | M28: 134
A29: 2024
A30: Jan. - Dec. | B30: -1132647 | C30: 39845 | D30: -1206137 | E30: 33645 | F30: 1732500 | G30: 192101 | H30: 1511389 | I30: 29011 | J30: 2865147 | K30: 152256 | L30: 2717526 | M30: -4635
A31: Jan. - July | B31: -640243 | C31: 19867 | D31: -678335 | E31: 18225 | F31: 1006988 | G31: 110098 | H31: 880288 | I31: 16602 | J31: 1647230 | K31: 90231 | L31: 1558622 | M31: -1623
A32: January | B32: -86937 | C32: 2462 | D32: -91822 | E32: 2423 | F32: 143279 | G32: 15236 | H32: 125789 | I32: 2254 | J32: 230216 | K32: 12774 | L32: 217611 | M32: -169
A33: February | B33: -87602 | C33: 3391 | D33: -93738 | E33: 2745 | F33: 146557 | G33: 16085 | H33: 128022 | I33: 2451 | J33: 234159 | K33: 12694 | L33: 221760 | M33: -294
A34: March | B34: -88563 | C34: 3266 | D34: -94530 | E34: 2702 | F34: 142954 | G34: 15999 | H34: 124466 | I34: 2489 | J34: 231516 | K34: 12733 | L34: 218996 | M34: -213
A35: April | B35: -92771 | C35: 2363 | D35: -97644 | E35: 2510 | F35: 143167 | G35: 15045 | H35: 125960 | I35: 2162 | J35: 235938 | K35: 12682 | L35: 223604 | M35: -349
A36: May | B36: -93761 | C36: 2462 | D36: -98691 | E36: 2467 | F36: 141770 | G36: 15663 | H36: 123731 | I36: 2376 | J36: 235532 | K36: 13200 | L36: 222422 | M36: -91
A37: June | B37: -92819 | C37: 3204 | D37: -98714 | E37: 2692 | F37: 144950 | G37: 16308 | H37: 126140 | I37: 2501 | J37: 237768 | K37: 13104 | L37: 224854 | M37: -190
A38: July | B38: -97790 | C38: 2719 | D38: -103195 | E38: 2686 | F38: 144311 | G38: 15763 | H38: 126179 | I38: 2369 | J38: 242101 | K38: 13044 | L38: 229374 | M38: -317
A39: August | B39: -89984 | C39: 3954 | D39: -96906 | E39: 2969 | F39: 148682 | G39: 16354 | H39: 129856 | I39: 2471 | J39: 238665 | K39: 12401 | L39: 226762 | M39: -498
A40: September | B40: -98312 | C40: 3876 | D40: -105299 | E40: 3111 | F40: 147494 | G40: 16284 | H40: 128748 | I40: 2462 | J40: 245806 | K40: 12408 | L40: 234047 | M40: -649
A41: October | B41: -93264 | C41: 4014 | D41: -100257 | E41: 2979 | F41: 141723 | G41: 16118 | H41: 123167 | I41: 2438 | J41: 234987 | K41: 12104 | L41: 223424 | M41: -541
... A43: December | B43: -112174 | C43: 3547 | D43: -118866 | E43: 3146 | F43: 141529 | G43: 16341 | H43: 122712 | I43: 2476 | J43: 253703 | K43: 12794 | L43: 241578 | M43: -669
...

Sheet 12
A2: Part B: NOT Seasonally Adjusted
A3: =VLOOKUP(A2,'Table of Contents'!A:C,3,0) -> 원계열
A4: Exhibit 12. U.S. Trade in Goods
A5: =VLOOKUP(MID(A4,SEARCH(".",A4)+2,LEN(A4)),'Table of Contents'!B:C,2,0) -> 상품 무역
A6: In millions of dollars. Details may not equal totals due to rounding. (R) - Revised.
A7: 단위: 백만 달러. 반올림 때문에 총계와 세부사항이 같지 않을 수 있음. (R) - 수정치.
A8: Period | B8: Balance | D8: Exports | G8: Imports
B9: Total Balance of Payments Basis | C9: Total Census Basis | D9: Total Balance of Payments Basis | E9: Net Adjustments | F9: Total Census Basis | G9: Total Balance of Payments Basis | H9: Net Adjustments | I9: Total Census Basis
A10: =HLOOKUP(A8,'5'!8:10,3,0) -> 기간 | B10: =HLOOKUP(B8,'5'!8:10,3,0) -> 수지 | D10: =HLOOKUP(D8,'5'!8:10,3,0) -> 수출 | G10: =HLOOKUP(G8,'5'!8:10,3,0) -> 수입
B11: =HLOOKUP(B9,'5'!9:11,3,0) -> 국제수지 기준 | C11: =HLOOKUP(C9,'5'!9:11,3,0) -> 전수조사 기준 | D11: =HLOOKUP(D9,'5'!9:11,3,0) -> 국제수지 기준 | E11: =HLOOKUP(E9,'5'!9:11,3,0) -> 순 조정 | F11: =HLOOKUP(F9,'5'!9:11,3,0) -> 전수조사 기준 | G11: =HLOOKUP(G9,'5'!9:11,3,0) -> 국제수지 기준 | H11: =HLOOKUP(H9,'5'!9:11,3,0) -> 순 조정 | I11: =HLOOKUP(I9,'5'!9:11,3,0) -> 전수조사 기준
A12: 2023
A13: Jan. - Dec. | B13: -1057495 | C13: -1056317 | D13: 2047457 | E13: 26978 | F13: 2020479 | G13: 3104952 | H13: 28155 | I13: 3076796
A14: Jan. - July | B14: -608056 | C14: -607472 | D14: 1179548 | E14: 15323 | F14: 1164225 | G14: 1787604 | H14: 15906 | I14: 1771697
A15: January | B15: -90826 | C15: -89854 | D15: 166188 | E15: 1416 | F15: 164772 | G15: 257014 | H15: 2388 | I15: 254626
A16: February | B16: -72282 | C16: -71449 | D16: 160255 | E16: 1533 | F16: 158721 | G16: 232536 | H16: 2367 | I16: 230170
A17: March | B17: -78355 | C17: -77673 | D17: 185455 | E17: 1884 | F17: 183571 | G17: 263809 | H17: 2566 | I17: 261244
A18: April | B18: -86853 | C18: -87204 | D18: 165282 | E18: 2617 | F18: 162666 | G18: 252135 | H18: 2266 | I18: 249869
A19: May | B19: -95667 | C19: -96101 | D19: 169763 | E19: 2619 | F19: 167144 | G19: 265430 | H19: 2185 | I19: 263245
A20: June | B20: -89752 | C20: -90057 | D20: 169483 | E20: 2329 | F20: 167154 | G20: 259235 | H20: 2024 | I20: 257211
A21: July | B21: -94321 | C21: -95135 | D21: 163123 | E21: 2925 | F21: 160198 | G21: 257444 | H21: 2111 | I21: 255333
A22: August | B22: -92922 | C22: -92865 | D22: 175172 | E22: 2481 | F22: 172691 | G22: 268094 | H22: 2538 | I22: 265555
A23: September | B23: -88664 | C23: -88973 | D23: 174617 | E23: 2727 | F23: 171890 | G23: 263281 | H23: 2418 | I23: 260863
A24: October | B24: -98078 | C24: -97842 | D24: 180665 | E24: 2329 | F24: 178336 | G24: 278743 | H24: 2565 | I24: 276179
... A26: December | B26: -80261 | C26: -79350 | D26: 169109 | E26: 1418 | F26: 167692 | G26: 249370 | H26: 2329 | I26: 247041
A27: 2024
A28: Jan. - Dec. | B28: -1215403 | C28: -1204719 | D28: 2079777 | E28: 18086 | F28: 2061691 | G28: 3295180 | H28: 28770 | I28: 3266410
A29: Jan. - July | B29: -668870 | C29: -661010 | D29: 1203485 | E29: 9422 | F29: 1194063 | G29: 1872355 | H29: 17282 | I29: 1855073
A30: January | B30: -94963 | C30: -93527 | D30: 161408 | E30: 1242 | F30: 160165 | G30: 256370 | H30: 2678 | I30: 253693
A31: February | B31: -76098 | C31: -74766 | D31: 168673 | E31: 1209 | F31: 167464 | G31: 244771 | H31: 2541 | I31: 242229
A32: March | B32: -80838 | C32: -79717 | D32: 180601 | E32: 1232 | F32: 179370 | G32: 261440 | H32: 2353 | I32: 259087
A33: April | B33: -101443 | C33: -99824 | D33: 172212 | E33: 1062 | F33: 171150 | G33: 273655 | H33: 2681 | I33: 270974
A34: May | B34: -103085 | C34: -101861 | D34: 174523 | E34: 1477 | F34: 173045 | G34: 277608 | H34: 2701 | I34: 274906
A35: June | B35: -92811 | C35: -92076 | D35: 175271 | E35: 1290 | F35: 173980 | G35: 268081 | H35: 2025 | I35: 266057
